BEGIN:VCALENDAR
VERSION:2.0
PRODID:-//M. Darusha Wehm - ECPv6.15.20//NONSGML v1.0//EN
CALSCALE:GREGORIAN
METHOD:PUBLISH
X-ORIGINAL-URL:https://darusha.ca
X-WR-CALDESC:Events for M. Darusha Wehm
REFRESH-INTERVAL;VALUE=DURATION:PT1H
X-Robots-Tag:noindex
X-PUBLISHED-TTL:PT1H
BEGIN:VTIMEZONE
TZID:Pacific/Auckland
BEGIN:STANDARD
TZOFFSETFROM:+1300
TZOFFSETTO:+1200
TZNAME:NZST
DTSTART:20170401T140000
END:STANDARD
BEGIN:DAYLIGHT
TZOFFSETFROM:+1200
TZOFFSETTO:+1300
TZNAME:NZDT
DTSTART:20170923T140000
END:DAYLIGHT
BEGIN:STANDARD
TZOFFSETFROM:+1300
TZOFFSETTO:+1200
TZNAME:NZST
DTSTART:20180331T140000
END:STANDARD
BEGIN:DAYLIGHT
TZOFFSETFROM:+1200
TZOFFSETTO:+1300
TZNAME:NZDT
DTSTART:20180929T140000
END:DAYLIGHT
BEGIN:STANDARD
TZOFFSETFROM:+1300
TZOFFSETTO:+1200
TZNAME:NZST
DTSTART:20190406T140000
END:STANDARD
BEGIN:DAYLIGHT
TZOFFSETFROM:+1200
TZOFFSETTO:+1300
TZNAME:NZDT
DTSTART:20190928T140000
END:DAYLIGHT
BEGIN:STANDARD
TZOFFSETFROM:+1300
TZOFFSETTO:+1200
TZNAME:NZST
DTSTART:20200404T140000
END:STANDARD
BEGIN:DAYLIGHT
TZOFFSETFROM:+1200
TZOFFSETTO:+1300
TZNAME:NZDT
DTSTART:20200926T140000
END:DAYLIGHT
BEGIN:STANDARD
TZOFFSETFROM:+1300
TZOFFSETTO:+1200
TZNAME:NZST
DTSTART:20210403T140000
END:STANDARD
BEGIN:DAYLIGHT
TZOFFSETFROM:+1200
TZOFFSETTO:+1300
TZNAME:NZDT
DTSTART:20210925T140000
END:DAYLIGHT
BEGIN:STANDARD
TZOFFSETFROM:+1300
TZOFFSETTO:+1200
TZNAME:NZST
DTSTART:20220402T140000
END:STANDARD
BEGIN:DAYLIGHT
TZOFFSETFROM:+1200
TZOFFSETTO:+1300
TZNAME:NZDT
DTSTART:20220924T140000
END:DAYLIGHT
BEGIN:STANDARD
TZOFFSETFROM:+1300
TZOFFSETTO:+1200
TZNAME:NZST
DTSTART:20230401T140000
END:STANDARD
BEGIN:DAYLIGHT
TZOFFSETFROM:+1200
TZOFFSETTO:+1300
TZNAME:NZDT
DTSTART:20230923T140000
END:DAYLIGHT
END:VTIMEZONE
BEGIN:VTIMEZONE
TZID:UTC
BEGIN:STANDARD
TZOFFSETFROM:+0000
TZOFFSETTO:+0000
TZNAME:UTC
DTSTART:20200101T000000
END:STANDARD
END:VTIMEZONE
BEGIN:VTIMEZONE
TZID:America/Los_Angeles
BEGIN:DAYLIGHT
TZOFFSETFROM:-0800
TZOFFSETTO:-0700
TZNAME:PDT
DTSTART:20180311T100000
END:DAYLIGHT
BEGIN:STANDARD
TZOFFSETFROM:-0700
TZOFFSETTO:-0800
TZNAME:PST
DTSTART:20181104T090000
END:STANDARD
BEGIN:DAYLIGHT
TZOFFSETFROM:-0800
TZOFFSETTO:-0700
TZNAME:PDT
DTSTART:20190310T100000
END:DAYLIGHT
BEGIN:STANDARD
TZOFFSETFROM:-0700
TZOFFSETTO:-0800
TZNAME:PST
DTSTART:20191103T090000
END:STANDARD
BEGIN:DAYLIGHT
TZOFFSETFROM:-0800
TZOFFSETTO:-0700
TZNAME:PDT
DTSTART:20200308T100000
END:DAYLIGHT
BEGIN:STANDARD
TZOFFSETFROM:-0700
TZOFFSETTO:-0800
TZNAME:PST
DTSTART:20201101T090000
END:STANDARD
END:VTIMEZONE
BEGIN:VTIMEZONE
TZID:America/Toronto
BEGIN:DAYLIGHT
TZOFFSETFROM:-0500
TZOFFSETTO:-0400
TZNAME:EDT
DTSTART:20170312T070000
END:DAYLIGHT
BEGIN:STANDARD
TZOFFSETFROM:-0400
TZOFFSETTO:-0500
TZNAME:EST
DTSTART:20171105T060000
END:STANDARD
BEGIN:DAYLIGHT
TZOFFSETFROM:-0500
TZOFFSETTO:-0400
TZNAME:EDT
DTSTART:20180311T070000
END:DAYLIGHT
BEGIN:STANDARD
TZOFFSETFROM:-0400
TZOFFSETTO:-0500
TZNAME:EST
DTSTART:20181104T060000
END:STANDARD
BEGIN:DAYLIGHT
TZOFFSETFROM:-0500
TZOFFSETTO:-0400
TZNAME:EDT
DTSTART:20190310T070000
END:DAYLIGHT
BEGIN:STANDARD
TZOFFSETFROM:-0400
TZOFFSETTO:-0500
TZNAME:EST
DTSTART:20191103T060000
END:STANDARD
END:VTIMEZONE
BEGIN:VTIMEZONE
TZID:America/Edmonton
BEGIN:DAYLIGHT
TZOFFSETFROM:-0700
TZOFFSETTO:-0600
TZNAME:MDT
DTSTART:20170312T090000
END:DAYLIGHT
BEGIN:STANDARD
TZOFFSETFROM:-0600
TZOFFSETTO:-0700
TZNAME:MST
DTSTART:20171105T080000
END:STANDARD
BEGIN:DAYLIGHT
TZOFFSETFROM:-0700
TZOFFSETTO:-0600
TZNAME:MDT
DTSTART:20180311T090000
END:DAYLIGHT
BEGIN:STANDARD
TZOFFSETFROM:-0600
TZOFFSETTO:-0700
TZNAME:MST
DTSTART:20181104T080000
END:STANDARD
BEGIN:DAYLIGHT
TZOFFSETFROM:-0700
TZOFFSETTO:-0600
TZNAME:MDT
DTSTART:20190310T090000
END:DAYLIGHT
BEGIN:STANDARD
TZOFFSETFROM:-0600
TZOFFSETTO:-0700
TZNAME:MST
DTSTART:20191103T080000
END:STANDARD
END:VTIMEZONE
BEGIN:VTIMEZONE
TZID:America/Vancouver
BEGIN:DAYLIGHT
TZOFFSETFROM:-0800
TZOFFSETTO:-0700
TZNAME:PDT
DTSTART:20170312T100000
END:DAYLIGHT
BEGIN:STANDARD
TZOFFSETFROM:-0700
TZOFFSETTO:-0800
TZNAME:PST
DTSTART:20171105T090000
END:STANDARD
BEGIN:DAYLIGHT
TZOFFSETFROM:-0800
TZOFFSETTO:-0700
TZNAME:PDT
DTSTART:20180311T100000
END:DAYLIGHT
BEGIN:STANDARD
TZOFFSETFROM:-0700
TZOFFSETTO:-0800
TZNAME:PST
DTSTART:20181104T090000
END:STANDARD
BEGIN:DAYLIGHT
TZOFFSETFROM:-0800
TZOFFSETTO:-0700
TZNAME:PDT
DTSTART:20190310T100000
END:DAYLIGHT
BEGIN:STANDARD
TZOFFSETFROM:-0700
TZOFFSETTO:-0800
TZNAME:PST
DTSTART:20191103T090000
END:STANDARD
END:VTIMEZONE
BEGIN:VEVENT
DTSTART;TZID=Pacific/Auckland:20220905T093000
DTEND;TZID=Pacific/Auckland:20220905T100000
DTSTAMP:20260426T022638
CREATED:20220814T231821Z
LAST-MODIFIED:20220814T232003Z
UID:3630-1662370200-1662372000@darusha.ca
SUMMARY:Reading @Chicon
DESCRIPTION:I’ll read selections from Hamlet\, Prince of Robots.
URL:https://darusha.ca/event/reading/
LOCATION:Online
END:VEVENT
BEGIN:VEVENT
DTSTART;TZID=Pacific/Auckland:20220904T103000
DTEND;TZID=Pacific/Auckland:20220904T113000
DTSTAMP:20260426T022638
CREATED:20220814T231707Z
LAST-MODIFIED:20220814T232011Z
UID:3628-1662287400-1662291000@darusha.ca
SUMMARY:Table Talk @Chicon
DESCRIPTION:An online kaffeeklatsch with me.
URL:https://darusha.ca/event/table-talk/
LOCATION:Online
END:VEVENT
BEGIN:VEVENT
DTSTART;TZID=Pacific/Auckland:20220902T150000
DTEND;TZID=Pacific/Auckland:20220902T160000
DTSTAMP:20260426T022638
CREATED:20220814T231509Z
LAST-MODIFIED:20220814T231948Z
UID:3625-1662130800-1662134400@darusha.ca
SUMMARY:Overcoming Structural Challenges Across the Globe @Chicon
DESCRIPTION:What practical barriers to participation in the SFF community exist for creatives who aren’t based in North America or Europe? From travel costs to visa complications\, currency conversion penalties to high data costs\, unstable internet to failing electricity\, how is our community impacted by the exclusion these barriers create? How can we overcome them and make room for our fellow creatives? \nWith Dr. Bradford Lyau\, Ahmed Salah Al-Mahdi\, and Vida Cruz-Borja.
URL:https://darusha.ca/event/overcoming-structural-challenges-across-the-globe/
LOCATION:Online
END:VEVENT
BEGIN:VEVENT
DTSTART;TZID=UTC:20210418T000000
DTEND;TZID=UTC:20210418T025000
DTSTAMP:20260426T022638
CREATED:20210408T032342Z
LAST-MODIFIED:20210408T032342Z
UID:3481-1618704000-1618714200@darusha.ca
SUMMARY:[FULL] Career Development for Artists/Writers
DESCRIPTION:FULL \nFor some writers and artists\, the work is its own reward. But for many of us\, it can be hard to determine exactly what success looks like in a creative practice. Whether your creative work is for personal growth or for the public\, some paths are more likely than others to lead to where you want your work to take you. This hands-on workshop will help you determine what you want out of a career and how to design a path that will be more likely to succeed.
URL:https://darusha.ca/event/full-career-development-for-artists-writers/
LOCATION:Online
END:VEVENT
BEGIN:VEVENT
DTSTART;TZID=UTC:20210417T030000
DTEND;TZID=UTC:20210417T035000
DTSTAMP:20260426T022638
CREATED:20210408T032138Z
LAST-MODIFIED:20210408T032412Z
UID:3478-1618628400-1618631400@darusha.ca
SUMMARY:Publishing Outside the U.S. – Flights of Foundry
DESCRIPTION:While SFF readers are excited by a greater diversity in voices\, the machinery of publishing is still entirely dominated by the US market. What does this mean for publishing professionals who live elsewhere? We’ll look at local publishing scenes\, how people outside the US navigate publishing overseas\, and the challenges faced by being located in the “rest of the world.” \nWith Kat Clay\, Zhui Ning Chang\, Sascha Stronach
URL:https://darusha.ca/event/publishing-outside-the-u-s-flights-of-foundry/
LOCATION:Online
END:VEVENT
BEGIN:VEVENT
DTSTART;TZID=UTC:20210417T010000
DTEND;TZID=UTC:20210417T013000
DTSTAMP:20260426T022638
CREATED:20210408T031815Z
LAST-MODIFIED:20210408T031902Z
UID:3474-1618621200-1618623000@darusha.ca
SUMMARY:Kaffeeklatsch – Flights of Foundry
DESCRIPTION:Join author Darusha Wehm to chat about writing in shared worlds\, including tie-in and IP work.
URL:https://darusha.ca/event/kaffeeklatsch/
LOCATION:Online
END:VEVENT
BEGIN:VEVENT
DTSTART;VALUE=DATE:20210226
DTEND;VALUE=DATE:20210301
DTSTAMP:20260426T022638
CREATED:20201215T001121Z
LAST-MODIFIED:20201215T001210Z
UID:3430-1614297600-1614556799@darusha.ca
SUMMARY:Kāpiti Writers' Retreat
DESCRIPTION:Immerse yourself in writing and conversation this summer. There’s something for everyone–whether you’re new to writing\, an established writer\, or somewhere in-between. \nThe Kāpiti Writers’ Retreat is happening from 26 -28 February 2021 on the beautiful Kāpiti Coast north of Wellington. This three-day gathering for writers that encompasses intensive morning workshops\, lively discussions and space to write\, relax and engage with topics critical to your work. \nWriters Practice is delighted to host leading New Zealand writers – Brannavan Gnanalingam\, Cassie Hart\, Helen Lehndorf\, M. Darusha Wehm\, Pip Adam\, Rob Hack and Rose Lu –at the 2021 Kāpiti Writers’ Retreat. Each writer will teach morning workshops: in fiction\, poetry\, essay\, world building and editing. In the afternoons\, they will lead discussions on topics pertinent to craft and literature in Aotearoa. \nYou’ll find community\, encouragement\, and a safe place in which to take artistic risks. \nI’ll be leading the Creating Your Writing Path workshop. \nFor some writers\, the work is its own reward. But for many of us\, it can be hard to determine exactly what success looks like in a writing practice. \nWhether you write for personal growth or for publication\, some paths are more likely than others to lead to where you want your writing to take you. This hands-on workshop will help you determine what you want out of writing and how to design a path that will be more likely to succeed. \nFor working authors\, the workshop can be a career-planning exercise. For writers who are unsure whether they want to pursue publication\, the workshop can help you make that decision\, and for those who write only for themselves but aren’t certain that is enough\, the workshop can clarify and celebrate why you write. \n 
URL:https://darusha.ca/event/kapiti-writers-retreat/
END:VEVENT
BEGIN:VEVENT
DTSTART;TZID=Pacific/Auckland:20210213T103000
DTEND;TZID=Pacific/Auckland:20210213T113000
DTSTAMP:20260426T022638
CREATED:20201221T202759Z
LAST-MODIFIED:20201221T202936Z
UID:3447-1613212200-1613215800@darusha.ca
SUMMARY:Crime and Punishment Panel at samesame but different
DESCRIPTION:Crime and punishment are loaded terms for LGBTQI+ writers. Who gets to decide what constitutes a crime\, and who dishes out the retribution that follows? Join three whipsmart writers who have waded into this contested area in a panel hosted by a two-time finalist for the Ngaio Marsh awards\, Jen Shieff. \nFeaturing Aroha Awarau\, author of the 2020 play Provocation exploring the unjust gay-panic defence; -the crime-writing duo behind Jennifer Palgrave\, the person who wrote the lesbian mystery novel The One That Got Away; and Vogel award winner M. Darusha Wehm\, author of the sensational cyberpunk detective series Andersson Dexter.
URL:https://darusha.ca/event/crime-and-punishment/
LOCATION:Ellen Melville Centre\, 2 Freyberg Place\, Auckland\, 1000\, New Zealand
END:VEVENT
BEGIN:VEVENT
DTSTART;TZID=Pacific/Auckland:20200801T130000
DTEND;TZID=Pacific/Auckland:20200801T133000
DTSTAMP:20260426T022638
CREATED:20200722T020921Z
LAST-MODIFIED:20200722T020921Z
UID:3379-1596286800-1596288600@darusha.ca
SUMMARY:Reading: Little Blue Marble Author Showcase
DESCRIPTION:
URL:https://darusha.ca/event/reading-little-blue-marble-author-showcase/
LOCATION:Online
END:VEVENT
BEGIN:VEVENT
DTSTART;TZID=Pacific/Auckland:20200731T150000
DTEND;TZID=Pacific/Auckland:20200731T170000
DTSTAMP:20260426T022638
CREATED:20200719T215644Z
LAST-MODIFIED:20200719T215644Z
UID:3375-1596207600-1596214800@darusha.ca
SUMMARY:Expanded Universes: Tie-In Novels\, Stories\, and Comics
DESCRIPTION:What’s really part of the story? If something is popular\, it grows into new forms\, created by new people. A toy can become a movie franchise\, a TV show can spawn hundreds of novels\, manga can lead to anime can become a game can be a movie that has a graphic novel …. Is the tie-in really part of the story? Is expanding the universe making it better\, or do you only count the original story from the original creator as actually canon? \nModerator M. Darusha Wehm | Panelist Sean Williams | Panelist Daryl Gregory | Panelist Dr Stephen Dedman | Panelist Amanda Bridgeman
URL:https://darusha.ca/event/expanded-universes-tie-in-novels-stories-and-comics/
LOCATION:Online
END:VEVENT
BEGIN:VEVENT
DTSTART;TZID=Pacific/Auckland:20200729T160000
DTEND;TZID=Pacific/Auckland:20200729T170000
DTSTAMP:20260426T022638
CREATED:20200719T215412Z
LAST-MODIFIED:20200719T215443Z
UID:3369-1596038400-1596042000@darusha.ca
SUMMARY:Can Living in a Small Space on Earth Prepare You for Living in Space? 
DESCRIPTION:Could you live in a self-contained space that must supply food\, water\, and protection from a hostile environment for days and weeks at a time?  Some people have done this on sea\, others on land.  Can these experiences help us survive in space or on another planet?  How can off-earth living spaces be engineered based on what we learn from building and living in small spaces here? \nModerator Katrina Archer (Little Blue Marble) | Panelist M. Darusha Wehm | Panelist Courtney Schafer | Panelist David D. Levine
URL:https://darusha.ca/event/can-living-in-a-small-space-on-earth-prepare-you-for-living-in-space/
LOCATION:Online
END:VEVENT
BEGIN:VEVENT
DTSTART;VALUE=DATE:20190531
DTEND;VALUE=DATE:20190603
DTSTAMP:20260426T022638
CREATED:20190423T230233Z
LAST-MODIFIED:20190423T230538Z
UID:3188-1559260800-1559519999@darusha.ca
SUMMARY:Geysercon
DESCRIPTION:New Zealand’s 40th National Science Fiction and Fantasy Convention\, in Rotorua
URL:https://darusha.ca/event/geysercon/
LOCATION:Holiday Inn Rotorua\, 10 Tryon St\, Rotorua\, 3043\, New Zealand
END:VEVENT
BEGIN:VEVENT
DTSTART;TZID=America/Los_Angeles:20190518T133000
DTEND;TZID=America/Los_Angeles:20190518T153000
DTSTAMP:20260426T022638
CREATED:20190423T225718Z
LAST-MODIFIED:20190423T230411Z
UID:3182-1558186200-1558193400@darusha.ca
SUMMARY:Nebula Mass Autographing
DESCRIPTION:Open to the public\, free event!
URL:https://darusha.ca/event/nebula-mass-autographing/
LOCATION:Warner Center Marriott Woodland Hills – Grand Ballroom\, 21850 W Oxnard St\, Woodland Hills\, CA\, 91367\, United States
END:VEVENT
BEGIN:VEVENT
DTSTART;VALUE=DATE:20190516
DTEND;VALUE=DATE:20190520
DTSTAMP:20260426T022638
CREATED:20190423T224955Z
LAST-MODIFIED:20190423T224955Z
UID:3178-1557964800-1558310399@darusha.ca
SUMMARY:SFWA Nebula Conference
DESCRIPTION:I’ll be attending the SFWA Nebula Conference. It’s sold out\, but if you’re going to be there\, say hi!
URL:https://darusha.ca/event/sfwa-nebula-conference/
END:VEVENT
BEGIN:VEVENT
DTSTART;TZID=Pacific/Auckland:20181110T203000
DTEND;TZID=Pacific/Auckland:20181110T211500
DTSTAMP:20260426T022638
CREATED:20180927T233400Z
LAST-MODIFIED:20180927T233400Z
UID:3070-1541881800-1541884500@darusha.ca
SUMMARY:LitCrawl Wellington—Are Friends Electric?
DESCRIPTION:Join me in conversation with Helen Heath about her astonishing poetry collection Are Friends Electric?
URL:https://darusha.ca/event/litcrawl-wellington-are-friends-electric/
LOCATION:Pegasus Books\, 204/ Left Bank\, Wellington\, 6011\, New Zealand
END:VEVENT
BEGIN:VEVENT
DTSTART;TZID=America/Toronto:20180621T183000
DTEND;TZID=America/Toronto:20180621T193000
DTSTAMP:20260426T022638
CREATED:20180213T011638Z
LAST-MODIFIED:20180301T201208Z
UID:2983-1529605800-1529609400@darusha.ca
SUMMARY:The Home for Wayward Parrots Book Launch — Toronto
DESCRIPTION:With Genevieve Scott.
URL:https://darusha.ca/event/home-wayward-parrots-book-launch-toronto/
LOCATION:Free Times Cafe\, 320 College St\, Toronto\, ON\, Canada
CATEGORIES:Launch
END:VEVENT
BEGIN:VEVENT
DTSTART;TZID=America/Edmonton:20180614T190000
DTEND;TZID=America/Edmonton:20180614T200000
DTSTAMP:20260426T022638
CREATED:20180213T011438Z
LAST-MODIFIED:20180301T201241Z
UID:2979-1529002800-1529006400@darusha.ca
SUMMARY:The Home for Wayward Parrots Book Launch — Edmonton
DESCRIPTION:With Jennifer Quist.
URL:https://darusha.ca/event/home-wayward-parrots-book-launch-edmonton/
LOCATION:Audreys Books\, 10702 Jasper Ave\, Edmonton\, AB\, Canada
CATEGORIES:Launch
END:VEVENT
BEGIN:VEVENT
DTSTART;TZID=America/Vancouver:20180529T190000
DTEND;TZID=America/Vancouver:20180529T200000
DTSTAMP:20260426T022638
CREATED:20180213T011141Z
LAST-MODIFIED:20180213T011141Z
UID:2976-1527620400-1527624000@darusha.ca
SUMMARY:The Home for Wayward Parrots Book Launch — Vancouver
DESCRIPTION:
URL:https://darusha.ca/event/home-wayward-parrots-book-launch-vancouver/
LOCATION:Massy Books\, 229 E. Georgia\, Vancouver\, BC\, Canada
CATEGORIES:Launch
END:VEVENT
BEGIN:VEVENT
DTSTART;TZID=America/Vancouver:20180522T190000
DTEND;TZID=America/Vancouver:20180522T200000
DTSTAMP:20260426T022638
CREATED:20180213T005824Z
LAST-MODIFIED:20180213T010846Z
UID:2972-1527015600-1527019200@darusha.ca
SUMMARY:The Home for Wayward Parrots Book Launch — Victoria
DESCRIPTION:With Sarah de Leeuw and David Griffin
URL:https://darusha.ca/event/home-wayward-parrots-book-launch-victoria/
LOCATION:Bolen Books\, 1644 Hillside Ave\, Victoria\, BC\, V8T 2C5\, Canada
CATEGORIES:Launch
END:VEVENT
BEGIN:VEVENT
DTSTART;TZID=Pacific/Auckland:20180309T131500
DTEND;TZID=Pacific/Auckland:20180309T141500
DTSTAMP:20260426T022638
CREATED:20180213T013334Z
LAST-MODIFIED:20180213T013334Z
UID:2988-1520601300-1520604900@darusha.ca
SUMMARY:Science and Magic — NZ Festival
DESCRIPTION:Join me in conversation with Cory Doctorow\, Charlie Jane Anders and Intan Paramaditha as we talk about science and magic in fiction. \n 
URL:https://darusha.ca/event/science-magic-nz-festival/
LOCATION:New Zealand Festival Club\, 17 Cable St\, Wellington\, New Zealand
END:VEVENT
END:VCALENDAR