BEGIN:VCALENDAR
VERSION:2.0
PRODID:-//M. Darusha Wehm - ECPv6.15.20//NONSGML v1.0//EN
CALSCALE:GREGORIAN
METHOD:PUBLISH
X-ORIGINAL-URL:https://darusha.ca
X-WR-CALDESC:Events for M. Darusha Wehm
REFRESH-INTERVAL;VALUE=DURATION:PT1H
X-Robots-Tag:noindex
X-PUBLISHED-TTL:PT1H
BEGIN:VTIMEZONE
TZID:America/Los_Angeles
BEGIN:DAYLIGHT
TZOFFSETFROM:-0800
TZOFFSETTO:-0700
TZNAME:PDT
DTSTART:20180311T100000
END:DAYLIGHT
BEGIN:STANDARD
TZOFFSETFROM:-0700
TZOFFSETTO:-0800
TZNAME:PST
DTSTART:20181104T090000
END:STANDARD
BEGIN:DAYLIGHT
TZOFFSETFROM:-0800
TZOFFSETTO:-0700
TZNAME:PDT
DTSTART:20190310T100000
END:DAYLIGHT
BEGIN:STANDARD
TZOFFSETFROM:-0700
TZOFFSETTO:-0800
TZNAME:PST
DTSTART:20191103T090000
END:STANDARD
BEGIN:DAYLIGHT
TZOFFSETFROM:-0800
TZOFFSETTO:-0700
TZNAME:PDT
DTSTART:20200308T100000
END:DAYLIGHT
BEGIN:STANDARD
TZOFFSETFROM:-0700
TZOFFSETTO:-0800
TZNAME:PST
DTSTART:20201101T090000
END:STANDARD
END:VTIMEZONE
BEGIN:VTIMEZONE
TZID:Pacific/Auckland
BEGIN:STANDARD
TZOFFSETFROM:+1300
TZOFFSETTO:+1200
TZNAME:NZST
DTSTART:20170401T140000
END:STANDARD
BEGIN:DAYLIGHT
TZOFFSETFROM:+1200
TZOFFSETTO:+1300
TZNAME:NZDT
DTSTART:20170923T140000
END:DAYLIGHT
BEGIN:STANDARD
TZOFFSETFROM:+1300
TZOFFSETTO:+1200
TZNAME:NZST
DTSTART:20180331T140000
END:STANDARD
BEGIN:DAYLIGHT
TZOFFSETFROM:+1200
TZOFFSETTO:+1300
TZNAME:NZDT
DTSTART:20180929T140000
END:DAYLIGHT
BEGIN:STANDARD
TZOFFSETFROM:+1300
TZOFFSETTO:+1200
TZNAME:NZST
DTSTART:20190406T140000
END:STANDARD
BEGIN:DAYLIGHT
TZOFFSETFROM:+1200
TZOFFSETTO:+1300
TZNAME:NZDT
DTSTART:20190928T140000
END:DAYLIGHT
END:VTIMEZONE
BEGIN:VTIMEZONE
TZID:America/Toronto
BEGIN:DAYLIGHT
TZOFFSETFROM:-0500
TZOFFSETTO:-0400
TZNAME:EDT
DTSTART:20170312T070000
END:DAYLIGHT
BEGIN:STANDARD
TZOFFSETFROM:-0400
TZOFFSETTO:-0500
TZNAME:EST
DTSTART:20171105T060000
END:STANDARD
BEGIN:DAYLIGHT
TZOFFSETFROM:-0500
TZOFFSETTO:-0400
TZNAME:EDT
DTSTART:20180311T070000
END:DAYLIGHT
BEGIN:STANDARD
TZOFFSETFROM:-0400
TZOFFSETTO:-0500
TZNAME:EST
DTSTART:20181104T060000
END:STANDARD
BEGIN:DAYLIGHT
TZOFFSETFROM:-0500
TZOFFSETTO:-0400
TZNAME:EDT
DTSTART:20190310T070000
END:DAYLIGHT
BEGIN:STANDARD
TZOFFSETFROM:-0400
TZOFFSETTO:-0500
TZNAME:EST
DTSTART:20191103T060000
END:STANDARD
END:VTIMEZONE
BEGIN:VTIMEZONE
TZID:America/Edmonton
BEGIN:DAYLIGHT
TZOFFSETFROM:-0700
TZOFFSETTO:-0600
TZNAME:MDT
DTSTART:20170312T090000
END:DAYLIGHT
BEGIN:STANDARD
TZOFFSETFROM:-0600
TZOFFSETTO:-0700
TZNAME:MST
DTSTART:20171105T080000
END:STANDARD
BEGIN:DAYLIGHT
TZOFFSETFROM:-0700
TZOFFSETTO:-0600
TZNAME:MDT
DTSTART:20180311T090000
END:DAYLIGHT
BEGIN:STANDARD
TZOFFSETFROM:-0600
TZOFFSETTO:-0700
TZNAME:MST
DTSTART:20181104T080000
END:STANDARD
BEGIN:DAYLIGHT
TZOFFSETFROM:-0700
TZOFFSETTO:-0600
TZNAME:MDT
DTSTART:20190310T090000
END:DAYLIGHT
BEGIN:STANDARD
TZOFFSETFROM:-0600
TZOFFSETTO:-0700
TZNAME:MST
DTSTART:20191103T080000
END:STANDARD
END:VTIMEZONE
BEGIN:VTIMEZONE
TZID:America/Vancouver
BEGIN:DAYLIGHT
TZOFFSETFROM:-0800
TZOFFSETTO:-0700
TZNAME:PDT
DTSTART:20170312T100000
END:DAYLIGHT
BEGIN:STANDARD
TZOFFSETFROM:-0700
TZOFFSETTO:-0800
TZNAME:PST
DTSTART:20171105T090000
END:STANDARD
BEGIN:DAYLIGHT
TZOFFSETFROM:-0800
TZOFFSETTO:-0700
TZNAME:PDT
DTSTART:20180311T100000
END:DAYLIGHT
BEGIN:STANDARD
TZOFFSETFROM:-0700
TZOFFSETTO:-0800
TZNAME:PST
DTSTART:20181104T090000
END:STANDARD
BEGIN:DAYLIGHT
TZOFFSETFROM:-0800
TZOFFSETTO:-0700
TZNAME:PDT
DTSTART:20190310T100000
END:DAYLIGHT
BEGIN:STANDARD
TZOFFSETFROM:-0700
TZOFFSETTO:-0800
TZNAME:PST
DTSTART:20191103T090000
END:STANDARD
END:VTIMEZONE
BEGIN:VEVENT
DTSTART;TZID=America/Los_Angeles:20190518T133000
DTEND;TZID=America/Los_Angeles:20190518T153000
DTSTAMP:20260426T052819
CREATED:20190423T225718Z
LAST-MODIFIED:20190423T230411Z
UID:3182-1558186200-1558193400@darusha.ca
SUMMARY:Nebula Mass Autographing
DESCRIPTION:Open to the public\, free event!
URL:https://darusha.ca/event/nebula-mass-autographing/
LOCATION:Warner Center Marriott Woodland Hills – Grand Ballroom\, 21850 W Oxnard St\, Woodland Hills\, CA\, 91367\, United States
END:VEVENT
BEGIN:VEVENT
DTSTART;VALUE=DATE:20190516
DTEND;VALUE=DATE:20190520
DTSTAMP:20260426T052819
CREATED:20190423T224955Z
LAST-MODIFIED:20190423T224955Z
UID:3178-1557964800-1558310399@darusha.ca
SUMMARY:SFWA Nebula Conference
DESCRIPTION:I’ll be attending the SFWA Nebula Conference. It’s sold out\, but if you’re going to be there\, say hi!
URL:https://darusha.ca/event/sfwa-nebula-conference/
LOCATION:CA
END:VEVENT
BEGIN:VEVENT
DTSTART;TZID=Pacific/Auckland:20181110T203000
DTEND;TZID=Pacific/Auckland:20181110T211500
DTSTAMP:20260426T052819
CREATED:20180927T233400Z
LAST-MODIFIED:20180927T233400Z
UID:3070-1541881800-1541884500@darusha.ca
SUMMARY:LitCrawl Wellington—Are Friends Electric?
DESCRIPTION:Join me in conversation with Helen Heath about her astonishing poetry collection Are Friends Electric?
URL:https://darusha.ca/event/litcrawl-wellington-are-friends-electric/
LOCATION:Pegasus Books\, 204/ Left Bank\, Wellington\, 6011\, New Zealand
END:VEVENT
BEGIN:VEVENT
DTSTART;TZID=America/Toronto:20180621T183000
DTEND;TZID=America/Toronto:20180621T193000
DTSTAMP:20260426T052819
CREATED:20180213T011638Z
LAST-MODIFIED:20180301T201208Z
UID:2983-1529605800-1529609400@darusha.ca
SUMMARY:The Home for Wayward Parrots Book Launch — Toronto
DESCRIPTION:With Genevieve Scott.
URL:https://darusha.ca/event/home-wayward-parrots-book-launch-toronto/
LOCATION:Free Times Cafe\, 320 College St\, Toronto\, ON\, Canada
CATEGORIES:Launch
END:VEVENT
BEGIN:VEVENT
DTSTART;TZID=America/Edmonton:20180614T190000
DTEND;TZID=America/Edmonton:20180614T200000
DTSTAMP:20260426T052819
CREATED:20180213T011438Z
LAST-MODIFIED:20180301T201241Z
UID:2979-1529002800-1529006400@darusha.ca
SUMMARY:The Home for Wayward Parrots Book Launch — Edmonton
DESCRIPTION:With Jennifer Quist.
URL:https://darusha.ca/event/home-wayward-parrots-book-launch-edmonton/
LOCATION:Audreys Books\, 10702 Jasper Ave\, Edmonton\, AB\, Canada
CATEGORIES:Launch
END:VEVENT
BEGIN:VEVENT
DTSTART;TZID=America/Vancouver:20180529T190000
DTEND;TZID=America/Vancouver:20180529T200000
DTSTAMP:20260426T052819
CREATED:20180213T011141Z
LAST-MODIFIED:20180213T011141Z
UID:2976-1527620400-1527624000@darusha.ca
SUMMARY:The Home for Wayward Parrots Book Launch — Vancouver
DESCRIPTION:
URL:https://darusha.ca/event/home-wayward-parrots-book-launch-vancouver/
LOCATION:Massy Books\, 229 E. Georgia\, Vancouver\, BC\, Canada
CATEGORIES:Launch
END:VEVENT
BEGIN:VEVENT
DTSTART;TZID=America/Vancouver:20180522T190000
DTEND;TZID=America/Vancouver:20180522T200000
DTSTAMP:20260426T052819
CREATED:20180213T005824Z
LAST-MODIFIED:20180213T010846Z
UID:2972-1527015600-1527019200@darusha.ca
SUMMARY:The Home for Wayward Parrots Book Launch — Victoria
DESCRIPTION:With Sarah de Leeuw and David Griffin
URL:https://darusha.ca/event/home-wayward-parrots-book-launch-victoria/
LOCATION:Bolen Books\, 1644 Hillside Ave\, Victoria\, BC\, V8T 2C5\, Canada
CATEGORIES:Launch
END:VEVENT
BEGIN:VEVENT
DTSTART;TZID=Pacific/Auckland:20180309T131500
DTEND;TZID=Pacific/Auckland:20180309T141500
DTSTAMP:20260426T052819
CREATED:20180213T013334Z
LAST-MODIFIED:20180213T013334Z
UID:2988-1520601300-1520604900@darusha.ca
SUMMARY:Science and Magic — NZ Festival
DESCRIPTION:Join me in conversation with Cory Doctorow\, Charlie Jane Anders and Intan Paramaditha as we talk about science and magic in fiction. \n 
URL:https://darusha.ca/event/science-magic-nz-festival/
LOCATION:New Zealand Festival Club\, 17 Cable St\, Wellington\, New Zealand
END:VEVENT
END:VCALENDAR